BEGIN:VCALENDAR
VERSION:2.0
PRODID:-//SCFB - ECPv5.1.4//NONSGML v1.0//EN
CALSCALE:GREGORIAN
METHOD:PUBLISH
X-WR-CALNAME:SCFB
X-ORIGINAL-URL:https://salecreekfirstbaptist.org
X-WR-CALDESC:Events for SCFB
BEGIN:VTIMEZONE
TZID:America/Halifax
BEGIN:DAYLIGHT
TZOFFSETFROM:-0400
TZOFFSETTO:-0300
TZNAME:ADT
DTSTART:20250309T060000
END:DAYLIGHT
BEGIN:STANDARD
TZOFFSETFROM:-0300
TZOFFSETTO:-0400
TZNAME:AST
DTSTART:20251102T050000
END:STANDARD
END:VTIMEZONE
BEGIN:VEVENT
DTSTART;TZID=America/Halifax:20250721T180000
DTEND;TZID=America/Halifax:20250725T203000
DTSTAMP:20260421T170354
CREATED:20250621T122122Z
LAST-MODIFIED:20250621T122122Z
UID:1595-1753120800-1753475400@salecreekfirstbaptist.org
SUMMARY:VBS 2025: True North
DESCRIPTION:Join us for Vacation Bible School as we explore True North: Trusting Jesus in a Wild World! It’s going to be an exciting week full of adventure\, fun\, and learning how to follow Jesus no matter what life throws our way. All elementary-aged kids are invited. We can’t wait to see you! \n
URL:https://salecreekfirstbaptist.org/event/vbs-2025-true-north
LOCATION:Sale Creek First Baptist\, 15116 Wall Street\, Sale Creek\, TN\, 37373\, United States
ATTACH;FMTTYPE=image/jpeg:https://salecreekfirstbaptist.org/wp-content/uploads/2025/06/VBS-2025-Dates.jpg
END:VEVENT
END:VCALENDAR