BEGIN:VCALENDAR
VERSION:2.0
PRODID:-//SCFB - ECPv5.1.4//NONSGML v1.0//EN
CALSCALE:GREGORIAN
METHOD:PUBLISH
X-WR-CALNAME:SCFB
X-ORIGINAL-URL:https://salecreekfirstbaptist.org
X-WR-CALDESC:Events for SCFB
BEGIN:VTIMEZONE
TZID:America/Halifax
BEGIN:DAYLIGHT
TZOFFSETFROM:-0400
TZOFFSETTO:-0300
TZNAME:ADT
DTSTART:20250309T060000
END:DAYLIGHT
BEGIN:STANDARD
TZOFFSETFROM:-0300
TZOFFSETTO:-0400
TZNAME:AST
DTSTART:20251102T050000
END:STANDARD
END:VTIMEZONE
BEGIN:VEVENT
DTSTART;TZID=America/Halifax:20250425T060000
DTEND;TZID=America/Halifax:20250427T120000
DTSTAMP:20260421T201539
CREATED:20250302T021037Z
LAST-MODIFIED:20250302T021037Z
UID:1554-1745560800-1745755200@salecreekfirstbaptist.org
SUMMARY:SCFB Youth DNOW Weekend
DESCRIPTION:Join us for DNOW\, an exciting overnight youth event themed “Pause\,” where we encourage students to slow down and focus on God. Throughout this weekend\, students will experience meaningful worship sessions that deepen their faith. They will also enjoy delicious meals together and participate in games that will promote bonding\, laughter\, and fun! This is a fantastic opportunity to take a break from the busyness of life and immerse in a weekend of faith\, friendship\, and fun. \n
URL:https://salecreekfirstbaptist.org/event/scfb-youth-dnow-weekend
LOCATION:Sale Creek First Baptist\, 15116 Wall Street\, Sale Creek\, TN\, 37373\, United States
ATTACH;FMTTYPE=image/jpeg:https://salecreekfirstbaptist.org/wp-content/uploads/2025/03/DNOW-REDO-II.jpg
END:VEVENT
END:VCALENDAR