BEGIN:VCALENDAR
VERSION:2.0
PRODID:-//SCFB - ECPv5.1.4//NONSGML v1.0//EN
CALSCALE:GREGORIAN
METHOD:PUBLISH
X-WR-CALNAME:SCFB
X-ORIGINAL-URL:https://salecreekfirstbaptist.org
X-WR-CALDESC:Events for SCFB
BEGIN:VTIMEZONE
TZID:America/Halifax
BEGIN:DAYLIGHT
TZOFFSETFROM:-0400
TZOFFSETTO:-0300
TZNAME:ADT
DTSTART:20250309T060000
END:DAYLIGHT
BEGIN:STANDARD
TZOFFSETFROM:-0300
TZOFFSETTO:-0400
TZNAME:AST
DTSTART:20251102T050000
END:STANDARD
END:VTIMEZONE
BEGIN:VEVENT
DTSTART;TZID=America/Halifax:20251123T180000
DTEND;TZID=America/Halifax:20251123T200000
DTSTAMP:20260423T090534
CREATED:20251101T191146Z
LAST-MODIFIED:20251101T191159Z
UID:1632-1763920800-1763928000@salecreekfirstbaptist.org
SUMMARY:OCC Shoebox Packing Party
DESCRIPTION:Join us for a fun and meaningful Operation Christmas Child Shoebox Packing Party! Together\, we’ll pack shoeboxes filled with gifts\, school supplies\, and the love of Jesus to bless kids around the world. Everyone is welcome! Bring your family and help us share the Good News and great joy this Christmas season! \n
URL:https://salecreekfirstbaptist.org/event/occ-shoebox-packing-party
LOCATION:Sale Creek First Baptist\, 15116 Wall Street\, Sale Creek\, TN\, 37373\, United States
ATTACH;FMTTYPE=image/jpeg:https://salecreekfirstbaptist.org/wp-content/uploads/2025/11/OCC-Packing-Party-2025.jpg
END:VEVENT
END:VCALENDAR