BEGIN:VCALENDAR
VERSION:2.0
PRODID:-//SCFB - ECPv5.1.4//NONSGML v1.0//EN
CALSCALE:GREGORIAN
METHOD:PUBLISH
X-WR-CALNAME:SCFB
X-ORIGINAL-URL:https://salecreekfirstbaptist.org
X-WR-CALDESC:Events for SCFB
BEGIN:VTIMEZONE
TZID:America/Halifax
BEGIN:DAYLIGHT
TZOFFSETFROM:-0400
TZOFFSETTO:-0300
TZNAME:ADT
DTSTART:20250309T060000
END:DAYLIGHT
BEGIN:STANDARD
TZOFFSETFROM:-0300
TZOFFSETTO:-0400
TZNAME:AST
DTSTART:20251102T050000
END:STANDARD
END:VTIMEZONE
BEGIN:VEVENT
DTSTART;TZID=America/Halifax:20250413T120000
DTEND;TZID=America/Halifax:20250413T133000
DTSTAMP:20260422T012234
CREATED:20250315T232252Z
LAST-MODIFIED:20250315T232252Z
UID:1565-1744545600-1744551000@salecreekfirstbaptist.org
SUMMARY:Mission Trip Fundraising Lunch
DESCRIPTION:Join us for a delicious breakfast fundraiser in support of our summer mission trip to Panama! Enjoy a meal while helping send our mission team to share the love of Christ. Every plate served brings us one step closer to making an impact. Come hungry and give generously! \n
URL:https://salecreekfirstbaptist.org/event/mission-trip-fundraising-lunch
LOCATION:Sale Creek First Baptist\, 15116 Wall Street\, Sale Creek\, TN\, 37373\, United States
ATTACH;FMTTYPE=image/jpeg:https://salecreekfirstbaptist.org/wp-content/uploads/2025/03/Mission-Trip-Fundraising-Lunch-Apr-2025-scaled.jpg
END:VEVENT
END:VCALENDAR