BEGIN:VCALENDAR
VERSION:2.0
PRODID:-//SCFB - ECPv5.1.4//NONSGML v1.0//EN
CALSCALE:GREGORIAN
METHOD:PUBLISH
X-WR-CALNAME:SCFB
X-ORIGINAL-URL:https://salecreekfirstbaptist.org
X-WR-CALDESC:Events for SCFB
BEGIN:VTIMEZONE
TZID:America/Halifax
BEGIN:DAYLIGHT
TZOFFSETFROM:-0400
TZOFFSETTO:-0300
TZNAME:ADT
DTSTART:20250309T060000
END:DAYLIGHT
BEGIN:STANDARD
TZOFFSETFROM:-0300
TZOFFSETTO:-0400
TZNAME:AST
DTSTART:20251102T050000
END:STANDARD
END:VTIMEZONE
BEGIN:VEVENT
DTSTART;TZID=America/Halifax:20250418T190000
DTEND;TZID=America/Halifax:20250418T200000
DTSTAMP:20260421T233106
CREATED:20250308T173139Z
LAST-MODIFIED:20250308T173139Z
UID:1557-1745002800-1745006400@salecreekfirstbaptist.org
SUMMARY:Good Friday Service
DESCRIPTION:Join us on Good Friday as we reflect on the crucifixion of Jesus\, worship Him\, and reflect on the significance of His death. Don’t miss this opportunity to worship as we prepare for Easter! \n
URL:https://salecreekfirstbaptist.org/event/good-friday-service-2
LOCATION:Sale Creek First Baptist\, 15116 Wall Street\, Sale Creek\, TN\, 37373\, United States
ATTACH;FMTTYPE=image/jpeg:https://salecreekfirstbaptist.org/wp-content/uploads/2025/03/Good-Friday-Service-2025-scaled.jpg
END:VEVENT
END:VCALENDAR