BEGIN:VCALENDAR
VERSION:2.0
PRODID:-//SCFB - ECPv5.1.4//NONSGML v1.0//EN
CALSCALE:GREGORIAN
METHOD:PUBLISH
X-WR-CALNAME:SCFB
X-ORIGINAL-URL:https://salecreekfirstbaptist.org
X-WR-CALDESC:Events for SCFB
BEGIN:VTIMEZONE
TZID:America/Halifax
BEGIN:DAYLIGHT
TZOFFSETFROM:-0400
TZOFFSETTO:-0300
TZNAME:ADT
DTSTART:20250309T060000
END:DAYLIGHT
BEGIN:STANDARD
TZOFFSETFROM:-0300
TZOFFSETTO:-0400
TZNAME:AST
DTSTART:20251102T050000
END:STANDARD
END:VTIMEZONE
BEGIN:VEVENT
DTSTART;TZID=America/Halifax:20250511T103000
DTEND;TZID=America/Halifax:20250511T120000
DTSTAMP:20260421T200334
CREATED:20250405T165004Z
LAST-MODIFIED:20250405T165004Z
UID:1573-1746959400-1746964800@salecreekfirstbaptist.org
SUMMARY:Baby Dedication
DESCRIPTION:Join us on Mother’s Day for our Baby Dedication Ceremony. This special event allows parents to publicly commit to raising their children in the ways of the Lord\, with the support of our church family. It’s a meaningful opportunity to seek God’s blessings and guidance for your child’s life. Come celebrate this joyous occasion with us as we dedicate our little ones to God and reaffirm our commitment to nurturing their spiritual journey. \n
URL:https://salecreekfirstbaptist.org/event/baby-dedication
LOCATION:Sale Creek First Baptist\, 15116 Wall Street\, Sale Creek\, TN\, 37373\, United States
ATTACH;FMTTYPE=image/jpeg:https://salecreekfirstbaptist.org/wp-content/uploads/2025/04/Baby-Dedication-2025.jpg
END:VEVENT
END:VCALENDAR